BEGIN:VCALENDAR
VERSION:2.0
CALSCALE:GREGORIAN
METHOD:PUBLISH
PRODID://SRET//473323
BEGIN:VEVENT
DTSTAMP:20260421T093358
VTIMEZONE:America/Los_Angeles
DTSTART:20260115T170000Z
DTEND:20260115T180000Z
UID:473323
SUMMARY:2026 Annual Meeting
LOCATION:Spokane REALTORSÂ®, 1924 N Ash St., Spokane, WA, 99205
DESCRIPTION:2026 Annual Meeting\n\n01/15/26 09:00 AM PST\n - 01/15/26 10:00 AM PST\Description:\nThe 2026 Annual Meeting of the Spokane Traders Club will take place as follows:\n\nDate: Thursday, January 15, 2026\nTime: 9:00 AM - 10:00 AM\nLocation: Spokane REALTORS® - 1924 N Ash St., Spokane, WA 99205\n\nAn agenda and proxy voting form will be provided in advance. Members who are unable to attend may still exercise their voting rights by submitting a completed proxy form by the stated deadline.\n\nPlease contact admin@spokanetradersclub.com with any questions.\n\Location:\nSpokane REALTORSÂ®\n1924 N Ash St.\nSpokane, WA 99205
X-ALT-DESC;FMTTYPE=text/html:2026 Annual Meeting<br /><br />01/15/26 09:00 AM PST - 01/15/26 10:00 AM PST<br />Description:<br /><p data-end="366" data-start="137">The 2026 Annual Meeting of the Spokane Traders Club will take place as follows:<br />
<br />
Date: Thursday, January 15, 2026<br />
Time: 9:00 AM - 10:00 AM<br />
Location: Spokane REALTORS&reg; - 1924 N Ash St., Spokane, WA 99205</p>

<p data-end="561" data-start="368">An agenda and proxy voting form will be provided in advance. Members who are unable to attend may still exercise their voting rights by submitting a completed proxy form by the stated deadline.</p>

<p data-end="731" data-start="563">Please contact <a data-end="711" data-start="683" rel="noopener">admin@spokanetradersclub.com</a> with any questions.</p>
<br />Location:<br />Spokane REALTORSÂ®<br />1924 N Ash St.<br />Spokane, WA 99205
PRIORITY:3
TRANSP:TRANSPARENT
BEGIN:VALARM
TRIGGER:-PT5M
ACTION:DISPLAY
DESCRIPTION:Reminder
END:VALARM
END:VEVENT
END:VCALENDAR
